BEGIN:VCALENDAR
VERSION:2.0
PRODID:Almoço das Tertúlias
X-WR-CALNAME:Almoço das Tertúlias
X-WR-TIMEZONE:Europe/Lisbon
X-PUBLISHED-TTL:P1W
BEGIN:VTIMEZONE
TZID:Europe/Lisbon
X-LIC-LOCATION:Europe/Lisbon
END:VTIMEZONE
BEGIN:VEVENT
UID:69e74c72d5734
DTSTART;VALUE=DATE:20260528
SEQUENCE:0
TRANSP:OPAQUE
DTEND;VALUE=DATE:20260529
SUMMARY:Almoço das Tertúlias
CLASS:PUBLIC
DESCRIPTION:UTA no Largo de Palmela
X-MICROSOFT-CDO-ALLDAYEVENT:TRUE
DTSTAMP:20260421T100746Z
END:VEVENT
END:VCALENDAR