BEGIN:VCALENDAR
VERSION:2.0
PRODID:Festa das Tertúlias e III Edição Jogos Tradicionais
X-WR-CALNAME:Festa das Tertúlias e III Edição Jogos Tradicionais
X-WR-TIMEZONE:Europe/Lisbon
X-PUBLISHED-TTL:P1W
BEGIN:VTIMEZONE
TZID:Europe/Lisbon
X-LIC-LOCATION:Europe/Lisbon
END:VTIMEZONE
BEGIN:VEVENT
UID:69e74eee2f4cd
DTSTART;VALUE=DATE:20260523
SEQUENCE:0
TRANSP:OPAQUE
DTEND;VALUE=DATE:20260524
SUMMARY:Festa das Tertúlias e III Edição Jogos Tradicionais
CLASS:PUBLIC
DESCRIPTION:UTA na Praça de Toiros
X-MICROSOFT-CDO-ALLDAYEVENT:TRUE
DTSTAMP:20260421T101822Z
END:VEVENT
END:VCALENDAR