BEGIN:VCALENDAR
VERSION:2.0
PRODID:Dia das Massagens
X-WR-CALNAME:Dia das Massagens
X-WR-TIMEZONE:Europe/Lisbon
X-PUBLISHED-TTL:P1W
BEGIN:VTIMEZONE
TZID:Europe/Lisbon
X-LIC-LOCATION:Europe/Lisbon
END:VTIMEZONE
BEGIN:VEVENT
UID:69e735accf867
DTSTART;VALUE=DATE:20260322
SEQUENCE:0
TRANSP:OPAQUE
DTEND;VALUE=DATE:20260323
SUMMARY:Dia das Massagens
CLASS:PUBLIC
DESCRIPTION:FreeToBe
X-MICROSOFT-CDO-ALLDAYEVENT:TRUE
DTSTAMP:20260421T083036Z
END:VEVENT
END:VCALENDAR