BEGIN:VCALENDAR
VERSION:2.0
PRODID:Serão Cultural 
X-WR-CALNAME:Serão Cultural 
X-WR-TIMEZONE:Europe/Lisbon
X-PUBLISHED-TTL:P1W
BEGIN:VTIMEZONE
TZID:Europe/Lisbon
X-LIC-LOCATION:Europe/Lisbon
END:VTIMEZONE
BEGIN:VEVENT
UID:69e7360fecd56
DTSTART;VALUE=DATE:20260321
SEQUENCE:0
TRANSP:OPAQUE
DTEND;VALUE=DATE:20260322
SUMMARY:Serão Cultural 
CLASS:PUBLIC
DESCRIPTION:CCRCB Casais dos Britos
X-MICROSOFT-CDO-ALLDAYEVENT:TRUE
DTSTAMP:20260421T083215Z
END:VEVENT
END:VCALENDAR