BEGIN:VCALENDAR
VERSION:2.0
PRODID:Festa Santos Populares
X-WR-CALNAME:Festa Santos Populares
X-WR-TIMEZONE:Europe/Lisbon
X-PUBLISHED-TTL:P1W
BEGIN:VTIMEZONE
TZID:Europe/Lisbon
X-LIC-LOCATION:Europe/Lisbon
END:VTIMEZONE
BEGIN:VEVENT
UID:69e74f31159b0
DTSTART;VALUE=DATE:20260613
SEQUENCE:0
TRANSP:OPAQUE
DTEND;VALUE=DATE:20260614
SUMMARY:Festa Santos Populares
CLASS:PUBLIC
DESCRIPTION:SOCASA
X-MICROSOFT-CDO-ALLDAYEVENT:TRUE
DTSTAMP:20260421T101929Z
END:VEVENT
END:VCALENDAR